BEGIN:VCALENDAR
VERSION:2.0
PRODID:-//Center for Native American Youth - ECPv6.15.20//NONSGML v1.0//EN
CALSCALE:GREGORIAN
METHOD:PUBLISH
X-WR-CALNAME:Center for Native American Youth
X-ORIGINAL-URL:https://www.cnay.org
X-WR-CALDESC:Events for Center for Native American Youth
REFRESH-INTERVAL;VALUE=DURATION:PT1H
X-Robots-Tag:noindex
X-PUBLISHED-TTL:PT1H
BEGIN:VTIMEZONE
TZID:America/New_York
BEGIN:DAYLIGHT
TZOFFSETFROM:-0500
TZOFFSETTO:-0400
TZNAME:EDT
DTSTART:20250309T070000
END:DAYLIGHT
BEGIN:STANDARD
TZOFFSETFROM:-0400
TZOFFSETTO:-0500
TZNAME:EST
DTSTART:20251102T060000
END:STANDARD
BEGIN:DAYLIGHT
TZOFFSETFROM:-0500
TZOFFSETTO:-0400
TZNAME:EDT
DTSTART:20260308T070000
END:DAYLIGHT
BEGIN:STANDARD
TZOFFSETFROM:-0400
TZOFFSETTO:-0500
TZNAME:EST
DTSTART:20261101T060000
END:STANDARD
BEGIN:DAYLIGHT
TZOFFSETFROM:-0500
TZOFFSETTO:-0400
TZNAME:EDT
DTSTART:20270314T070000
END:DAYLIGHT
BEGIN:STANDARD
TZOFFSETFROM:-0400
TZOFFSETTO:-0500
TZNAME:EST
DTSTART:20271107T060000
END:STANDARD
END:VTIMEZONE
BEGIN:VEVENT
DTSTART;VALUE=DATE:20260420
DTEND;VALUE=DATE:20260502
DTSTAMP:20260420T104032
CREATED:20260304T023132Z
LAST-MODIFIED:20260304T023132Z
UID:10000034-1776643200-1777679999@www.cnay.org
SUMMARY:UN Permanent Forum on Indigenous Issues (UNPFII) Twenty-Fifth Session
DESCRIPTION:The United Nations Permanent Forum on Indigenous Issues (UNPFII) is a high- level advisory body to the Economic and Social Council. The Forum was established on 28 July 2000 by resolution 2000/22\, with the mandate to deal with Indigenous issues related to economic and social development\, culture\, the environment\, education\, health and human rights. In 2026\, the theme of the session is: “Ensuring Indigenous Peoples’ health\, including in the context of conflict”
URL:https://www.cnay.org/event/unpfii-twenty-fifth-session/
LOCATION:UN Headquarters\, 405 E 45th St.\, New York\, NY\, 10017\, United States
CATEGORIES:External Event
ATTACH;FMTTYPE=image/webp:https://www.cnay.org/wp-content/uploads/2026/03/img_2313_54466455094_o.jpg.webp
END:VEVENT
END:VCALENDAR