BEGIN:VCALENDAR
VERSION:2.0
PRODID:-//Center for Native American Youth - ECPv6.15.20//NONSGML v1.0//EN
CALSCALE:GREGORIAN
METHOD:PUBLISH
X-ORIGINAL-URL:https://www.cnay.org
X-WR-CALDESC:Events for Center for Native American Youth
REFRESH-INTERVAL;VALUE=DURATION:PT1H
X-Robots-Tag:noindex
X-PUBLISHED-TTL:PT1H
BEGIN:VTIMEZONE
TZID:America/New_York
BEGIN:DAYLIGHT
TZOFFSETFROM:-0500
TZOFFSETTO:-0400
TZNAME:EDT
DTSTART:20250309T070000
END:DAYLIGHT
BEGIN:STANDARD
TZOFFSETFROM:-0400
TZOFFSETTO:-0500
TZNAME:EST
DTSTART:20251102T060000
END:STANDARD
BEGIN:DAYLIGHT
TZOFFSETFROM:-0500
TZOFFSETTO:-0400
TZNAME:EDT
DTSTART:20260308T070000
END:DAYLIGHT
BEGIN:STANDARD
TZOFFSETFROM:-0400
TZOFFSETTO:-0500
TZNAME:EST
DTSTART:20261101T060000
END:STANDARD
BEGIN:DAYLIGHT
TZOFFSETFROM:-0500
TZOFFSETTO:-0400
TZNAME:EDT
DTSTART:20270314T070000
END:DAYLIGHT
BEGIN:STANDARD
TZOFFSETFROM:-0400
TZOFFSETTO:-0500
TZNAME:EST
DTSTART:20271107T060000
END:STANDARD
END:VTIMEZONE
BEGIN:VEVENT
DTSTART;TZID=America/New_York:20260121T130000
DTEND;TZID=America/New_York:20260121T143000
DTSTAMP:20260423T042612
CREATED:20260120T163419Z
LAST-MODIFIED:20260204T200422Z
UID:10000023-1769000400-1769005800@www.cnay.org
SUMMARY:NAP Member Education Session: Protecting All Native Knowledge Journeys
DESCRIPTION:Education is more than a pathway forward for our communities; it is a bridge between generations\, carrying the wisdom of our elders into the future and ensuring our youth are set up to succeed. Native Americans in Philanthropy (NAP) is honored to hold space for our educators who are protecting the passing on of traditional knowledge and improving access to opportunities across Indian Country. As our Tribal Colleges and Universities face even more drastic underfunding\, this moment presents an opportunity for the philanthropic sector to uplift critical community development initiatives. \nJoin us for a very special conversation featuring Dr. Shelly C. Lowe (Navajo Nation)\, President of the Institute of American Indian Arts; Doris Tinsley (Shinnecock)\, Co-Founder of Native Americans in Higher Education and Mentorship; Julie Garreau (Cheyenne River Sioux Tribe)\, CEO of the Cheyenne River Youth Project; and Tracy L. Canard Goodluck (Oneida Nation of Wisconsin/Mvskoke Creek)\, Executive Director of the Center for Native American Youth at the Aspen Institute as they share how philanthropy can better support thriving Native communities through sustainable education and guidance grounded in our cultural values and traditions. \nNAP is also excited to announce the return of Junior Moderators in each of our Member Education Sessions this year! Anagali Duncan (Cherokee Nation) will be joining this broadcast to help guide our conversation.
URL:https://www.cnay.org/event/nap-member-education-session-protecting-all-native-knowledge-journeys/
LOCATION:youtube.com/live/K1qtQ6IC3uo?utm_campaign=Membership%20Series&utm_medium=email&_hsenc=p2ANqtz--NSGO5r7VcyX3knl44OzE5Bx3K2XwteHzRwQ_JwWC9NmZQalWFXEma_7mR8EYjvPzyNccwOVzAQmlaozeHZWyDCczg01jgYU6rhCEQ35w_Zr2bT4E&_hsmi=376955979&utm_content=376955979&utm_source=hs_automation
CATEGORIES:External Event,Webinar
ATTACH;FMTTYPE=image/webp:https://www.cnay.org/wp-content/uploads/2026/01/January-21-Graphic.webp
ORGANIZER;CN="Native Americans in Philanthropy (NAP)":MAILTO:info@nativephilanthropy.org
END:VEVENT
BEGIN:VEVENT
DTSTART;VALUE=DATE:20260203
DTEND;VALUE=DATE:20260204
DTSTAMP:20260423T042612
CREATED:20260114T161606Z
LAST-MODIFIED:20260204T200436Z
UID:10000021-1770076800-1770163199@www.cnay.org
SUMMARY:2026 AIHEC Legislative Summit
DESCRIPTION:The American Indian Higher Education Consortium (AIHEC) brings together presidents\, students and faculty from all 34 accredited Tribal Colleges and Universities (TCUs) to engage in meaningful dialogue on critical issues impacting Tribal higher education. \nCNAY speakers included Senior Program Associate Tahnee Poafpybitty & 2023 Champion for Change Samuel Hiratsuka.
URL:https://www.cnay.org/event/2026-aihec-legislative-summit/
LOCATION:YOTEL DC\, 415 New Jersey Avenue\, Washington\, DC\, 20001\, United States
CATEGORIES:Conference,External Event
ATTACH;FMTTYPE=image/webp:https://www.cnay.org/wp-content/uploads/2026/01/img_8666-scaled-1.webp
ORGANIZER;CN="The American Indian Higher Education Consortium (AIHEC)":MAILTO:info@aihec.org
END:VEVENT
BEGIN:VEVENT
DTSTART;TZID=America/New_York:20260217T100000
DTEND;TZID=America/New_York:20260217T160000
DTSTAMP:20260423T042612
CREATED:20260217T145748Z
LAST-MODIFIED:20260217T145748Z
UID:10000032-1771322400-1771344000@www.cnay.org
SUMMARY:Youth250: Our Declaration
DESCRIPTION:Youth250: Our Declaration is a once-in-a-generation gathering of young adults shaping America’s future — the founders of our next chapter. As the nation looks toward its 250th anniversary in 2026\, this in-person event places Gen Z at the center of the conversation\, spotlighting their creativity\, leadership and vision for what comes next.
URL:https://www.cnay.org/event/youth250-our-declaration/
LOCATION:National Constitution Center\, 525 Arch St\, Philadelphia\, PA\, 19106\, United States
CATEGORIES:Conference,External Event
ATTACH;FMTTYPE=image/png:https://www.cnay.org/wp-content/uploads/2026/02/Screenshot-2026-02-17-at-9.56.59-AM.png
END:VEVENT
BEGIN:VEVENT
DTSTART;VALUE=DATE:20260329
DTEND;VALUE=DATE:20260402
DTSTAMP:20260423T042612
CREATED:20260128T154058Z
LAST-MODIFIED:20260304T015606Z
UID:10000026-1774742400-1775087999@www.cnay.org
SUMMARY:Protecting Our Children Conference
DESCRIPTION:National Indian Child Welfare Association (NICWA) hosts the largest national gathering on Native child advocacy issues. With over 2\,000 attendees\, this three-day conference is the premier national event addressing Tribal child welfare and well-being. \nOn Monday\, March 30 at 1:30pm CST\, Tahnee Poafpybitty & Roxy Sprowl  will be presenting — alongside Anita Horner from Casey Family Programs — Building Communities of Hope: A Training Guide to Bridge Lived Experience with Practice. \nThis workshop explores how culturally grounded leadership and resilience mechanisms support the well-being of Native youth in foster care. Participants will learn about CNAY’s co-created Native Foster Youth Well-Being curriculum\, which transforms lived experience into advocacy and systemic change. Through discussion\, reflection\, youth-led insights\, storytelling and a brief cultural activity\, we will examine how culture\, identity and good medicine can strengthen resilience and leadership. This session highlights how centering Native lived experience experts creates pathways for child welfare systems reforms to promote the advancement of Indian child welfare and culturally rooted wellness across communities. \n 
URL:https://www.cnay.org/event/national-indian-child-welfare-associations-nicwa-annual-protecting-our-children-conference/
LOCATION:Oklahoma City Convention Center\, 100 Mick Cornett Dr\, Oklahoma\, 73109\, United States
CATEGORIES:Conference,External Event
ATTACH;FMTTYPE=image/png:https://www.cnay.org/wp-content/uploads/2026/01/f104c445d4e54f43ac282c3f09ce3fb9ca6f2c70-1920x1280-1.png
ORGANIZER;CN="National Indian Child Welfare Association":MAILTO:info@nicwa.org
END:VEVENT
BEGIN:VEVENT
DTSTART;VALUE=DATE:20260414
DTEND;VALUE=DATE:20260417
DTSTAMP:20260423T042612
CREATED:20260204T201419Z
LAST-MODIFIED:20260304T020138Z
UID:10000029-1776124800-1776383999@www.cnay.org
SUMMARY:Native Americans in Philanthropy 2026 Annual Conference
DESCRIPTION:The Native Americans in Philanthropy (NAP) 2026 Annual Conference brings together a community of leaders\, practitioners\, and learners at the intersection of philanthropy\, Native advocacy and Tribal sovereignty to collaborate on ways to be involved in the movement to Indigenize Philanthropy. \nWith a firm grounding in Indigenous cultures\, the NAP conference honors the past\, celebrates the present and charts the map to the future — together. CNAY will be in attendance with youth representation\, including Youth Advisory Board executive committee members Katie Lynch & Tayler Higgins.
URL:https://www.cnay.org/event/nap-2026-annual-conference/
LOCATION:Riverside Convention Center\, 3637 5th St.\, Riverside\, CA\, 92501\, United States
CATEGORIES:Conference,External Event
ATTACH;FMTTYPE=image/png:https://www.cnay.org/wp-content/uploads/2026/02/NAP-Conference-2026-scaled.png
ORGANIZER;CN="Native Americans in Philanthropy (NAP)":MAILTO:info@nativephilanthropy.org
END:VEVENT
END:VCALENDAR